BEGIN:VCALENDAR
VERSION:2.0
PRODID:icalendar-ruby
CALSCALE:GREGORIAN
METHOD:PUBLISH
BEGIN:VEVENT
DTSTAMP:20260423T115212Z
UID:62-1144275@stcroixalliance.com
DTSTART:20260926T120000Z
DTEND:20260926T133000Z
CLASS:PUBLIC
CREATED:20260422T213936
DESCRIPTION:Wake up early and start your Saturday with a time of fellowship
 \, Bible study\, and discussion! Join us at 7:00 am in the main building f
 or a laid-back\, yet meaningful\, men's Bible study.  After watching the 
 video lesson\,  and sharing insights together\, we usually wrap up by hea
 ding out for breakfast at one of the local restaurants. It’s a great way
  to grow in your faith\, connect with other men\, and kickstart your weeke
 nd. We’d love to have you join us!\nContact Jim Segelstrom or Pastor Chr
 is with questions.
LAST-MODIFIED:20260422T213936
LOCATION:Main Building - Alliance Church of the Valley
SUMMARY:Saturday Morning Men's Bible Study
URL;VALUE=URI:https://www.stcroixalliance.com/events/saturday-morning-mens-
 bible-study/2026-09-26
ATTACH;FILENAME=pexels-tima-miroshnichenko-6860390.jpg;FMTTYPE=image/jpeg:h
 ttps://dq5pwpg1q8ru0.cloudfront.net/2024/09/05/15/09/10/723ee551-70b8-41e8
 -9fa6-57b3e4cb04db/pexels-tima-miroshnichenko-6860390.jpg
END:VEVENT
END:VCALENDAR
